BEGIN:VCALENDAR
VERSION:2.0
PRODID:-//pretix//Innovum_Tickets//
BEGIN:VTIMEZONE
TZID:Europe/Amsterdam
BEGIN:STANDARD
DTSTART:20001029T040000
RRULE:FREQ=YEARLY;BYDAY=-1SU;BYMONTH=10
TZNAME:CET
TZOFFSETFROM:+0200
TZOFFSETTO:+0100
END:STANDARD
BEGIN:DAYLIGHT
DTSTART:20000326T030000
RRULE:FREQ=YEARLY;BYDAY=-1SU;BYMONTH=3
TZNAME:CEST
TZOFFSETFROM:+0100
TZOFFSETTO:+0200
END:DAYLIGHT
END:VTIMEZONE
BEGIN:VEVENT
UID:pretix-events-FancyGamNight-0@tickets.engineeringeindhoven.nl
DTSTART;TZID=Europe/Amsterdam:20260521T173000
DTEND;TZID=Europe/Amsterdam:20260521T230000
DESCRIPTION:Tickets: https://tickets.engineeringeindhoven.nl/FancyGamNight/
 \nOrganizer: Innovum Events
DTSTAMP:20260422T121115Z
LOCATION:FeestFabriek\, Eindhoven
SUMMARY:Fancy Gambling Night
END:VEVENT
BEGIN:VEVENT
UID:pretix-events-femkesschoenenstelen-0@tickets.engineeringeindhoven.nl
DTSTART;TZID=Europe/Amsterdam:20260522T190000
DTEND;TZID=Europe/Amsterdam:20260524T120000
DESCRIPTION:Tickets: https://tickets.engineeringeindhoven.nl/femkesschoenen
 stelen/\nOrganizer: Innovum Events
DTSTAMP:20260422T121115Z
LOCATION:Camping Dommelvallei\, Schafterdijk 9\, 5556VK Valkenswaard
SUMMARY:Innovum weekend 2026
END:VEVENT
BEGIN:VEVENT
UID:pretix-events-pubcrawlMay2026-0@tickets.engineeringeindhoven.nl
DTSTART;TZID=Europe/Amsterdam:20260528T180000
DTEND;TZID=Europe/Amsterdam:20260528T234500
DESCRIPTION:Tickets: https://tickets.engineeringeindhoven.nl/pubcrawlMay202
 6/\nOrganizer: Innovum Events
DTSTAMP:20260422T121115Z
LOCATION:Stratumseind\, Start @ Feestfabriek
SUMMARY:Pubcrawl
END:VEVENT
END:VCALENDAR
